BEGIN:VCALENDAR
VERSION:2.0
PRODID:DPCALENDAR
CALSCALE:GREGORIAN
BEGIN:VTIMEZONE
TZID:Europe/Berlin
X-MICROSOFT-CDO-TZID:4
BEGIN:STANDARD
DTSTART:20251026T010000
TZOFFSETFROM:+0200
TZOFFSETTO:+0100
TZNAME:CET
END:STANDARD
BEGIN:STANDARD
DTSTART:20261025T010000
TZOFFSETFROM:+0200
TZOFFSETTO:+0100
TZNAME:CET
END:STANDARD
BEGIN:DAYLIGHT
DTSTART:20260329T010000
TZOFFSETFROM:+0100
TZOFFSETTO:+0200
TZNAME:CEST
END:DAYLIGHT
END:VTIMEZONE
X-WR-TIMEZONE:Europe/Berlin
BEGIN:VEVENT
DTSTART;TZID=Europe/Berlin:20260108T220000
DTEND;TZID=Europe/Berlin:20260108T230000
UID:8551be647334f46d1bf0004f15137869
SUMMARY:52249 Eschweiler, Festhalle Weisweiler - 30 Min
CREATED:20260425T114302Z
DTSTAMP:20260425T114302Z
URL:https://maggasj3.pxd.one/maggascalendar/52249-eschweiler-festhalle-weisweiler-30-min.html
LAST-MODIFIED:20260423T151353Z
SEQUENCE:-160149
X-ACCESS:1
X-HITS:0
X-COLOR:545454
X-SHOW-END-TIME:1
END:VEVENT
BEGIN:VEVENT
DTSTART;TZID=Europe/Berlin:20260109T195500
DTEND;TZID=Europe/Berlin:20260109T205500
UID:d173046755d5f9d798289331915edc14
SUMMARY:52249 Eschweiler, Festhalle Weisweiler - 30 Min
CREATED:20260425T114302Z
DTSTAMP:20260425T114302Z
URL:https://maggasj3.pxd.one/maggascalendar/52249-eschweiler-festhalle-weisweiler-30-min-2.html
LAST-MODIFIED:20260423T151353Z
SEQUENCE:-160149
X-ACCESS:1
X-HITS:0
X-COLOR:545454
X-SHOW-END-TIME:1
END:VEVENT
BEGIN:VEVENT
DTSTART;TZID=Europe/Berlin:20260110T164500
DTEND;TZID=Europe/Berlin:20260110T174500
UID:87918c046bd7b0b95152c3efcce35f78
SUMMARY:53894 Mechernich, Bürgerhalle - 30 Min
CREATED:20260425T114302Z
DTSTAMP:20260425T114302Z
URL:https://maggasj3.pxd.one/maggascalendar/53894-mechernich-buergerhalle-30-min.html
LAST-MODIFIED:20260423T151353Z
SEQUENCE:-160149
X-ACCESS:1
X-HITS:0
X-COLOR:545454
X-SHOW-END-TIME:1
END:VEVENT
BEGIN:VEVENT
DTSTART;TZID=Europe/Berlin:20260110T210500
DTEND;TZID=Europe/Berlin:20260110T220500
UID:62727a0042cd9594088c913d9df88b2d
SUMMARY:40210 Düsseldorf, Brauerei Schumacher - 30 Min
CREATED:20260425T114302Z
DTSTAMP:20260425T114302Z
URL:https://maggasj3.pxd.one/maggascalendar/40210-duesseldorf-brauerei-schumacher-30-min.html
LAST-MODIFIED:20260423T151353Z
SEQUENCE:-160149
X-ACCESS:1
X-HITS:0
X-COLOR:545454
X-SHOW-END-TIME:1
END:VEVENT
BEGIN:VEVENT
DTSTART;TZID=Europe/Berlin:20260110T221500
DTEND;TZID=Europe/Berlin:20260110T231500
UID:d9780f1bbd86f2fb136f47e677c054b6
SUMMARY:40764 Langenfeld, Carl Becker Saal - 30 Min
CREATED:20260425T114302Z
DTSTAMP:20260425T114302Z
URL:https://maggasj3.pxd.one/maggascalendar/40764-langenfeld-carl-becker-saal-30-min.html
LAST-MODIFIED:20260423T151353Z
SEQUENCE:-160149
X-ACCESS:1
X-HITS:0
X-COLOR:545454
X-SHOW-END-TIME:1
END:VEVENT
BEGIN:VEVENT
DTSTART;TZID=Europe/Berlin:20260110T231500
DTEND;TZID=Europe/Berlin:20260111T001500
UID:65f81babc3169c58b5570ccb7627d0b0
SUMMARY:40547 Düsseldorf, Cecillien Gymnasium - 30 Min
CREATED:20260425T114302Z
DTSTAMP:20260425T114302Z
URL:https://maggasj3.pxd.one/maggascalendar/40547-duesseldorf-cecillien-gymnasium-30-min.html
LAST-MODIFIED:20260423T151353Z
SEQUENCE:-160149
X-ACCESS:1
X-HITS:0
X-COLOR:545454
X-SHOW-END-TIME:1
END:VEVENT
BEGIN:VEVENT
DTSTART;TZID=Europe/Berlin:20260115T203000
DTEND;TZID=Europe/Berlin:20260115T213000
UID:adac767724258d43b64494562cd51850
SUMMARY:56651 Niederzissen, VR Bank - 30 Min
CREATED:20260425T114302Z
DTSTAMP:20260425T114302Z
URL:https://maggasj3.pxd.one/maggascalendar/56651-niederzissen-vr-bank-30-min.html
LAST-MODIFIED:20260423T151353Z
SEQUENCE:-160149
X-ACCESS:1
X-HITS:0
X-COLOR:545454
X-SHOW-END-TIME:1
END:VEVENT
BEGIN:VEVENT
DTSTART;TZID=Europe/Berlin:20260116T201500
DTEND;TZID=Europe/Berlin:20260116T211500
UID:4f19dc4b61f27af027a5ead4a71db4e9
SUMMARY:52249 Eschweiler, Hotel Flatten - 30 Min
CREATED:20260425T114302Z
DTSTAMP:20260425T114302Z
URL:https://maggasj3.pxd.one/maggascalendar/52249-eschweiler-hotel-flatten-30-min.html
LAST-MODIFIED:20260423T151353Z
SEQUENCE:-160149
X-ACCESS:1
X-HITS:0
X-COLOR:545454
X-SHOW-END-TIME:1
END:VEVENT
BEGIN:VEVENT
DTSTART;TZID=Europe/Berlin:20260116T211000
DTEND;TZID=Europe/Berlin:20260116T221000
UID:d397cef9233011427cf1760cd144630e
SUMMARY:52249 Eschweiler, Festhalle Weisweiler - 30 Min
CREATED:20260425T114302Z
DTSTAMP:20260425T114302Z
URL:https://maggasj3.pxd.one/maggascalendar/52249-eschweiler-festhalle-weisweiler-30-min-3.html
LAST-MODIFIED:20260423T151353Z
SEQUENCE:-160149
X-ACCESS:1
X-HITS:0
X-COLOR:545454
X-SHOW-END-TIME:1
END:VEVENT
BEGIN:VEVENT
DTSTART;TZID=Europe/Berlin:20260116T235900
DTEND;TZID=Europe/Berlin:20260117T005900
UID:eb530a197d9455f4333f90c718b0aa49
SUMMARY:50127 Bergheim, Bürgerhaus
CREATED:20260425T114302Z
DTSTAMP:20260425T114302Z
URL:https://maggasj3.pxd.one/maggascalendar/50127-bergheim-buergerhaus.html
LAST-MODIFIED:20260423T151353Z
SEQUENCE:-160149
X-ACCESS:1
X-HITS:0
X-COLOR:545454
X-SHOW-END-TIME:1
END:VEVENT
BEGIN:VEVENT
DTSTART;TZID=Europe/Berlin:20260117T160000
DTEND;TZID=Europe/Berlin:20260117T170000
UID:a73a771aedd0c31f0139a33d98974cb0
SUMMARY:50189 Elsdorf, Festzelt - 30 Min
CREATED:20260425T114302Z
DTSTAMP:20260425T114302Z
URL:https://maggasj3.pxd.one/maggascalendar/50189-elsdorf-festzelt-30-min.html
LAST-MODIFIED:20260423T151353Z
SEQUENCE:-160149
X-ACCESS:1
X-HITS:0
X-COLOR:545454
X-SHOW-END-TIME:1
END:VEVENT
BEGIN:VEVENT
DTSTART;TZID=Europe/Berlin:20260117T184500
DTEND;TZID=Europe/Berlin:20260117T194500
UID:f81fe96f05dcc392cae243ec9a09889c
SUMMARY:50968 Köln, Wirtshaus Bayenthal - 30 Min
CREATED:20260425T114302Z
DTSTAMP:20260425T114302Z
URL:https://maggasj3.pxd.one/maggascalendar/50968-koeln-wirtshaus-bayenthal-30-min.html
LAST-MODIFIED:20260423T151353Z
SEQUENCE:-160149
X-ACCESS:1
X-HITS:0
X-COLOR:545454
X-SHOW-END-TIME:1
END:VEVENT
BEGIN:VEVENT
DTSTART;TZID=Europe/Berlin:20260117T200000
DTEND;TZID=Europe/Berlin:20260117T210000
UID:e399ec33f9857ef606b5a43b7c8bb95f
SUMMARY:51065 Köln, Stadthalle - 30 Min
CREATED:20260425T114302Z
DTSTAMP:20260425T114302Z
URL:https://maggasj3.pxd.one/maggascalendar/51065-koeln-stadthalle-30-min.html
LAST-MODIFIED:20260423T151353Z
SEQUENCE:-160149
X-ACCESS:1
X-HITS:0
X-COLOR:545454
X-SHOW-END-TIME:1
END:VEVENT
BEGIN:VEVENT
DTSTART;TZID=Europe/Berlin:20260117T213000
DTEND;TZID=Europe/Berlin:20260117T223000
UID:7b268281f32701f9f96c29a54b5d7493
SUMMARY:40764 Langenfeld, Hubertushalle - 30 Min
CREATED:20260425T114302Z
DTSTAMP:20260425T114302Z
URL:https://maggasj3.pxd.one/maggascalendar/40764-langenfeld-hubertushalle-30-min.html
LAST-MODIFIED:20260423T151353Z
SEQUENCE:-160149
X-ACCESS:1
X-HITS:0
X-COLOR:545454
X-SHOW-END-TIME:1
END:VEVENT
BEGIN:VEVENT
DTSTART;TZID=Europe/Berlin:20260117T235500
DTEND;TZID=Europe/Berlin:20260118T005500
UID:a5c0646bd3e5f0ce464abd29e4e728d1
SUMMARY:52353 Düren, Festhalle Birkesdorf - 30 Min
CREATED:20260425T114302Z
DTSTAMP:20260425T114302Z
URL:https://maggasj3.pxd.one/maggascalendar/52353-dueren-festhalle-birkesdorf-30-min.html
LAST-MODIFIED:20260423T151353Z
SEQUENCE:-160149
X-ACCESS:1
X-HITS:0
X-COLOR:545454
X-SHOW-END-TIME:1
END:VEVENT
BEGIN:VEVENT
DTSTART;TZID=Europe/Berlin:20260118T154000
DTEND;TZID=Europe/Berlin:20260118T164000
UID:986a73436d407ef9d9162df8f3143c50
SUMMARY:51373 Leverkusen, Forum - 30 Min
CREATED:20260425T114302Z
DTSTAMP:20260425T114302Z
URL:https://maggasj3.pxd.one/maggascalendar/51373-leverkusen-forum-30-min.html
LAST-MODIFIED:20260423T151353Z
SEQUENCE:-160149
X-ACCESS:1
X-HITS:0
X-COLOR:545454
X-SHOW-END-TIME:1
END:VEVENT
BEGIN:VEVENT
DTSTART;TZID=Europe/Berlin:20260120T192500
DTEND;TZID=Europe/Berlin:20260120T202500
UID:bca3ade993c3b41ee207ff10acf4e669
SUMMARY:40589 Düsseldorf, Festzelt - 30 Min
CREATED:20260425T114302Z
DTSTAMP:20260425T114302Z
URL:https://maggasj3.pxd.one/maggascalendar/40589-duesseldorf-festzelt-30-min.html
LAST-MODIFIED:20260423T151353Z
SEQUENCE:-160149
X-ACCESS:1
X-HITS:0
X-COLOR:545454
X-SHOW-END-TIME:1
END:VEVENT
BEGIN:VEVENT
DTSTART;TZID=Europe/Berlin:20260122T193000
DTEND;TZID=Europe/Berlin:20260122T203000
UID:ebd28b3f3131b00f9fec4b04978f8717
SUMMARY:51789 Lindlar, Festzelt - 30 Min
CREATED:20260425T114302Z
DTSTAMP:20260425T114302Z
URL:https://maggasj3.pxd.one/maggascalendar/51789-lindlar-festzelt-30-min.html
LAST-MODIFIED:20260423T151353Z
SEQUENCE:-160149
X-ACCESS:1
X-HITS:0
X-COLOR:545454
X-SHOW-END-TIME:1
END:VEVENT
BEGIN:VEVENT
DTSTART;TZID=Europe/Berlin:20260123T201500
DTEND;TZID=Europe/Berlin:20260123T211500
UID:d92ff7aa21f8fb4994295bcef7ec509c
SUMMARY:52477 Alsdorf, Stadthalle - 30 Min
CREATED:20260425T114302Z
DTSTAMP:20260425T114302Z
URL:https://maggasj3.pxd.one/maggascalendar/52477-alsdorf-stadthalle-30-min.html
LAST-MODIFIED:20260423T151353Z
SEQUENCE:-160149
X-ACCESS:1
X-HITS:0
X-COLOR:545454
X-SHOW-END-TIME:1
END:VEVENT
BEGIN:VEVENT
DTSTART;TZID=Europe/Berlin:20260123T215500
DTEND;TZID=Europe/Berlin:20260123T225500
UID:828d072d0915c546a5573ee39f03432c
SUMMARY:41179 Mönchengladbach, Rheindahlen - 30 Min
CREATED:20260425T114302Z
DTSTAMP:20260425T114302Z
URL:https://maggasj3.pxd.one/maggascalendar/41179-moenchengladbach-rheindahlen-30-min.html
LAST-MODIFIED:20260423T151353Z
SEQUENCE:-160149
X-ACCESS:1
X-HITS:0
X-COLOR:545454
X-SHOW-END-TIME:1
END:VEVENT
BEGIN:VEVENT
DTSTART;TZID=Europe/Berlin:20260123T231000
DTEND;TZID=Europe/Berlin:20260124T001000
UID:c7902f0c3cc9f2476b7443189f2dcff4
SUMMARY:41063 Mönchengladbach, Stadthalle Eicken - 30 Min
CREATED:20260425T114302Z
DTSTAMP:20260425T114302Z
URL:https://maggasj3.pxd.one/maggascalendar/41063-moenchengladbach-stadthalle-eicken-30-min.html
LAST-MODIFIED:20260423T151354Z
SEQUENCE:-160148
X-ACCESS:1
X-HITS:0
X-COLOR:545454
X-SHOW-END-TIME:1
END:VEVENT
BEGIN:VEVENT
DTSTART;TZID=Europe/Berlin:20260124T152500
DTEND;TZID=Europe/Berlin:20260124T162500
UID:1ee4f277a9a35e1df2a10b6e3f7ae524
SUMMARY:50259 Pulheim, Rheingala - 30 Min
CREATED:20260425T114302Z
DTSTAMP:20260425T114302Z
URL:https://maggasj3.pxd.one/maggascalendar/50259-pulheim-rheingala-30-min.html
LAST-MODIFIED:20260423T151354Z
SEQUENCE:-160148
X-ACCESS:1
X-HITS:0
X-COLOR:545454
X-SHOW-END-TIME:1
END:VEVENT
BEGIN:VEVENT
DTSTART;TZID=Europe/Berlin:20260124T170000
DTEND;TZID=Europe/Berlin:20260124T180000
UID:d78d3a3ff746ac58f153248fcf89e1b7
SUMMARY:50374 Ereftstadt, Festzelt - 30 Min
CREATED:20260425T114302Z
DTSTAMP:20260425T114302Z
URL:https://maggasj3.pxd.one/maggascalendar/50374-ereftstadt-festzelt-30-min.html
LAST-MODIFIED:20260423T151354Z
SEQUENCE:-160148
X-ACCESS:1
X-HITS:0
X-COLOR:545454
X-SHOW-END-TIME:1
END:VEVENT
BEGIN:VEVENT
DTSTART;TZID=Europe/Berlin:20260124T191500
DTEND;TZID=Europe/Berlin:20260124T201500
UID:3d815fed12058ed8dde9ac7bd8225706
SUMMARY:41812 Erkelenz, Stadthalle Erkelenz - 30 Min
CREATED:20260425T114302Z
DTSTAMP:20260425T114302Z
URL:https://maggasj3.pxd.one/maggascalendar/41812-erkelenz-stadthalle-erkelenz-30-min.html
LAST-MODIFIED:20260423T151354Z
SEQUENCE:-160148
X-ACCESS:1
X-HITS:0
X-COLOR:545454
X-SHOW-END-TIME:1
END:VEVENT
BEGIN:VEVENT
DTSTART;TZID=Europe/Berlin:20260124T203000
DTEND;TZID=Europe/Berlin:20260124T213000
UID:0aee066e00d18e9db81a0a304f4c3d7e
SUMMARY:41179 Mönchengladbach, Rheindahlen - 30 Min
CREATED:20260425T114302Z
DTSTAMP:20260425T114302Z
URL:https://maggasj3.pxd.one/maggascalendar/41179-moenchengladbach-rheindahlen-30-min-2.html
LAST-MODIFIED:20260423T151354Z
SEQUENCE:-160148
X-ACCESS:1
X-HITS:0
X-COLOR:545454
X-SHOW-END-TIME:1
END:VEVENT
BEGIN:VEVENT
DTSTART;TZID=Europe/Berlin:20260124T222500
DTEND;TZID=Europe/Berlin:20260124T232500
UID:cc18b20a82957c38ea73aefbd24abc79
SUMMARY:51373 Leverkusen, Forum - 30 Min
CREATED:20260425T114302Z
DTSTAMP:20260425T114302Z
URL:https://maggasj3.pxd.one/maggascalendar/51373-leverkusen-forum-30-min-2.html
LAST-MODIFIED:20260423T151354Z
SEQUENCE:-160148
X-ACCESS:1
X-HITS:0
X-COLOR:545454
X-SHOW-END-TIME:1
END:VEVENT
BEGIN:VEVENT
DTSTART;TZID=Europe/Berlin:20260124T234000
DTEND;TZID=Europe/Berlin:20260125T004000
UID:466fc2fb48080b350eabcd272fe0a058
SUMMARY:40479 Düsseldorf, Rheinterassen - 30 Min
CREATED:20260425T114302Z
DTSTAMP:20260425T114302Z
URL:https://maggasj3.pxd.one/maggascalendar/40479-duesseldorf-rheinterassen-30-min.html
LAST-MODIFIED:20260423T151354Z
SEQUENCE:-160148
X-ACCESS:1
X-HITS:0
X-COLOR:545454
X-SHOW-END-TIME:1
END:VEVENT
BEGIN:VEVENT
DTSTART;TZID=Europe/Berlin:20260125T134500
DTEND;TZID=Europe/Berlin:20260125T144500
UID:af27819009f0d321da3bcce990aa3eb5
SUMMARY:52078 Aachen, Gewerbepark - 30 Min
CREATED:20260425T114302Z
DTSTAMP:20260425T114302Z
URL:https://maggasj3.pxd.one/maggascalendar/52078-aachen-gewerbepark-30-min.html
LAST-MODIFIED:20260423T151354Z
SEQUENCE:-160148
X-ACCESS:1
X-HITS:0
X-COLOR:545454
X-SHOW-END-TIME:1
END:VEVENT
BEGIN:VEVENT
DTSTART;TZID=Europe/Berlin:20260128T203000
DTEND;TZID=Europe/Berlin:20260128T213000
UID:d9e3cfa874cd60af4e101946a9af3e91
SUMMARY:53474 Band Neuenahr, VR Bank - 30 Min
CREATED:20260425T114302Z
DTSTAMP:20260425T114302Z
URL:https://maggasj3.pxd.one/maggascalendar/53474-band-neuenahr-vr-bank-30-min.html
LAST-MODIFIED:20260423T151354Z
SEQUENCE:-160148
X-ACCESS:1
X-HITS:0
X-COLOR:545454
X-SHOW-END-TIME:1
END:VEVENT
BEGIN:VEVENT
DTSTART;TZID=Europe/Berlin:20260129T210000
DTEND;TZID=Europe/Berlin:20260129T220000
UID:24d568c2e770a2197ecd9a89ed541b66
SUMMARY:50765 Köln, Festzelt Esch - 30 Min
CREATED:20260425T114302Z
DTSTAMP:20260425T114302Z
URL:https://maggasj3.pxd.one/maggascalendar/50765-koeln-festzelt-esch-30-min.html
LAST-MODIFIED:20260423T151354Z
SEQUENCE:-160148
X-ACCESS:1
X-HITS:0
X-COLOR:545454
X-SHOW-END-TIME:1
END:VEVENT
BEGIN:VEVENT
DTSTART;TZID=Europe/Berlin:20260130T214000
DTEND;TZID=Europe/Berlin:20260130T224000
UID:a3f83b2137e5559abf756b4ee988155f
SUMMARY:50226 Frechen, Stadthalle - 30 Min
CREATED:20260425T114302Z
DTSTAMP:20260425T114302Z
URL:https://maggasj3.pxd.one/maggascalendar/50226-frechen-stadthalle-30-min.html
LAST-MODIFIED:20260423T151354Z
SEQUENCE:-160148
X-ACCESS:1
X-HITS:0
X-COLOR:545454
X-SHOW-END-TIME:1
END:VEVENT
BEGIN:VEVENT
DTSTART;TZID=Europe/Berlin:20260130T225500
DTEND;TZID=Europe/Berlin:20260130T235500
UID:cafb8866a6f4713f712ca477d150a5bd
SUMMARY:53225 Bonn, Brückenforum - 30 Min
CREATED:20260425T114302Z
DTSTAMP:20260425T114302Z
URL:https://maggasj3.pxd.one/maggascalendar/53225-bonn-brueckenforum-30-min.html
LAST-MODIFIED:20260423T151354Z
SEQUENCE:-160148
X-ACCESS:1
X-HITS:0
X-COLOR:545454
X-SHOW-END-TIME:1
END:VEVENT
BEGIN:VEVENT
DTSTART;TZID=Europe/Berlin:20260131T154500
DTEND;TZID=Europe/Berlin:20260131T164500
UID:551c49f0a5723fa7ff5ae4a24bc6d2a6
SUMMARY:50226 Frechen, Stadtsaal - 30 Min
CREATED:20260425T114302Z
DTSTAMP:20260425T114302Z
URL:https://maggasj3.pxd.one/maggascalendar/50226-frechen-stadtsaal-30-min.html
LAST-MODIFIED:20260423T151354Z
SEQUENCE:-160148
X-ACCESS:1
X-HITS:0
X-COLOR:545454
X-SHOW-END-TIME:1
END:VEVENT
BEGIN:VEVENT
DTSTART;TZID=Europe/Berlin:20260131T172500
DTEND;TZID=Europe/Berlin:20260131T182500
UID:c442c6043dcdc5f1c2f0f5ac8d37dca6
SUMMARY:53175 Bonn, Friesdorf - 30 Min
CREATED:20260425T114302Z
DTSTAMP:20260425T114302Z
URL:https://maggasj3.pxd.one/maggascalendar/53175-bonn-friesdorf-30-min.html
LAST-MODIFIED:20260423T151354Z
SEQUENCE:-160148
X-ACCESS:1
X-HITS:0
X-COLOR:545454
X-SHOW-END-TIME:1
END:VEVENT
BEGIN:VEVENT
DTSTART;TZID=Europe/Berlin:20260131T190000
DTEND;TZID=Europe/Berlin:20260131T200000
UID:613aa74939b9cc7da5fe4b132cb9b6ee
SUMMARY:51789 Lindlar, Festzelt - 30 Min
CREATED:20260425T114302Z
DTSTAMP:20260425T114302Z
URL:https://maggasj3.pxd.one/maggascalendar/51789-lindlar-festzelt-30-min-2.html
LAST-MODIFIED:20260423T151354Z
SEQUENCE:-160148
X-ACCESS:1
X-HITS:0
X-COLOR:545454
X-SHOW-END-TIME:1
END:VEVENT
BEGIN:VEVENT
DTSTART;TZID=Europe/Berlin:20260131T214500
DTEND;TZID=Europe/Berlin:20260131T224500
UID:57d71be508086eaaeebd30861fae7b87
SUMMARY:46045 Oberhausen, Ebertbad - 30 Min
CREATED:20260425T114302Z
DTSTAMP:20260425T114302Z
URL:https://maggasj3.pxd.one/maggascalendar/46045-oberhausen-ebertbad-30-min.html
LAST-MODIFIED:20260423T151354Z
SEQUENCE:-160148
X-ACCESS:1
X-HITS:0
X-COLOR:545454
X-SHOW-END-TIME:1
END:VEVENT
BEGIN:VEVENT
DTSTART;TZID=Europe/Berlin:20260131T230000
DTEND;TZID=Europe/Berlin:20260201T000000
UID:cf4833895e4e85ae5c19f4a7b23168f5
SUMMARY:40699 Erkrath, Stadthalle - 30 Min
CREATED:20260425T114302Z
DTSTAMP:20260425T114302Z
URL:https://maggasj3.pxd.one/maggascalendar/40699-erkrath-stadthalle-30-min.html
LAST-MODIFIED:20260423T151354Z
SEQUENCE:-160148
X-ACCESS:1
X-HITS:0
X-COLOR:545454
X-SHOW-END-TIME:1
END:VEVENT
BEGIN:VEVENT
DTSTART;TZID=Europe/Berlin:20260131T235900
DTEND;TZID=Europe/Berlin:20260201T005900
UID:5133c690ec21e1a26dbaf3f4d23e13fe
SUMMARY:50189 Elsdorf, Festzelt - 30 Min
CREATED:20260425T114302Z
DTSTAMP:20260425T114302Z
URL:https://maggasj3.pxd.one/maggascalendar/50189-elsdorf-festzelt-30-min-2.html
LAST-MODIFIED:20260423T151354Z
SEQUENCE:-160148
X-ACCESS:1
X-HITS:0
X-COLOR:545454
X-SHOW-END-TIME:1
END:VEVENT
BEGIN:VEVENT
DTSTART;TZID=Europe/Berlin:20260201T132500
DTEND;TZID=Europe/Berlin:20260201T142500
UID:cea69b86701595a01e6be7f39dc8d60c
SUMMARY:52511 Geilenkirchen, Sporthalle - 30 Min
CREATED:20260425T114302Z
DTSTAMP:20260425T114302Z
URL:https://maggasj3.pxd.one/maggascalendar/52511-geilenkirchen-sporthalle-30-min.html
LAST-MODIFIED:20260423T151354Z
SEQUENCE:-160148
X-ACCESS:1
X-HITS:0
X-COLOR:545454
X-SHOW-END-TIME:1
END:VEVENT
BEGIN:VEVENT
DTSTART;TZID=Europe/Berlin:20260201T145500
DTEND;TZID=Europe/Berlin:20260201T155500
UID:a4762edc518dbc08e7bb2635f91bba43
SUMMARY:41069 Mönchengladbach Holt - 30 Min
CREATED:20260425T114302Z
DTSTAMP:20260425T114302Z
URL:https://maggasj3.pxd.one/maggascalendar/41069-moenchengladbach-holt-30-min.html
LAST-MODIFIED:20260423T151354Z
SEQUENCE:-160148
X-ACCESS:1
X-HITS:0
X-COLOR:545454
X-SHOW-END-TIME:1
END:VEVENT
BEGIN:VEVENT
DTSTART;TZID=Europe/Berlin:20260201T162500
DTEND;TZID=Europe/Berlin:20260201T172500
UID:c63a7c10203eeca1a5b65a380f11debf
SUMMARY:52353 Düren, Festhalle Birkesdorf - 30 Min
CREATED:20260425T114302Z
DTSTAMP:20260425T114302Z
URL:https://maggasj3.pxd.one/maggascalendar/52353-dueren-festhalle-birkesdorf-30-min-2.html
LAST-MODIFIED:20260423T151354Z
SEQUENCE:-160148
X-ACCESS:1
X-HITS:0
X-COLOR:545454
X-SHOW-END-TIME:1
END:VEVENT
BEGIN:VEVENT
DTSTART;TZID=Europe/Berlin:20260206T200000
DTEND;TZID=Europe/Berlin:20260206T210000
UID:59c6358dbb8d9e95618fe1dce1320da1
SUMMARY:41539 Dormagen, Schützenhaus - 30 Min
CREATED:20260425T114302Z
DTSTAMP:20260425T114302Z
URL:https://maggasj3.pxd.one/maggascalendar/41539-dormagen-schuetzenhaus-30-min.html
LAST-MODIFIED:20260423T151354Z
SEQUENCE:-160148
X-ACCESS:1
X-HITS:0
X-COLOR:545454
X-SHOW-END-TIME:1
END:VEVENT
BEGIN:VEVENT
DTSTART;TZID=Europe/Berlin:20260206T211500
DTEND;TZID=Europe/Berlin:20260206T221500
UID:f50ad73db937615e72b39e4b306dec8a
SUMMARY:50996 Köln, RheinRoxi - 30 Min
CREATED:20260425T114302Z
DTSTAMP:20260425T114302Z
URL:https://maggasj3.pxd.one/maggascalendar/50996-koeln-rheinroxi-30-min.html
LAST-MODIFIED:20260423T151354Z
SEQUENCE:-160148
X-ACCESS:1
X-HITS:0
X-COLOR:545454
X-SHOW-END-TIME:1
END:VEVENT
BEGIN:VEVENT
DTSTART;TZID=Europe/Berlin:20260206T224500
DTEND;TZID=Europe/Berlin:20260206T234500
UID:71d5665fcb4ee334efbdc35fbaf11fa1
SUMMARY:53773 Hennef, Hotel Landsknecht - 30 Min
CREATED:20260425T114302Z
DTSTAMP:20260425T114302Z
URL:https://maggasj3.pxd.one/maggascalendar/53773-hennef-hotel-landsknecht-30-min.html
LAST-MODIFIED:20260423T151354Z
SEQUENCE:-160148
X-ACCESS:1
X-HITS:0
X-COLOR:545454
X-SHOW-END-TIME:1
END:VEVENT
BEGIN:VEVENT
DTSTART;TZID=Europe/Berlin:20260207T150000
DTEND;TZID=Europe/Berlin:20260207T160000
UID:a5f594384b43aca1e1b7266b11ff7e9a
SUMMARY:53489 Sinzig, Festzelt - 30 Min
CREATED:20260425T114302Z
DTSTAMP:20260425T114302Z
URL:https://maggasj3.pxd.one/maggascalendar/53489-sinzig-festzelt-30-min.html
LAST-MODIFIED:20260423T151354Z
SEQUENCE:-160148
X-ACCESS:1
X-HITS:0
X-COLOR:545454
X-SHOW-END-TIME:1
END:VEVENT
BEGIN:VEVENT
DTSTART;TZID=Europe/Berlin:20260207T181500
DTEND;TZID=Europe/Berlin:20260207T191500
UID:9ae54ec3522f1220cc2f461554fd946c
SUMMARY:53894 Mechernich, Dreifachturnhalle - 30 Min
CREATED:20260425T114302Z
DTSTAMP:20260425T114302Z
URL:https://maggasj3.pxd.one/maggascalendar/53894-mechernich-dreifachturnhalle-30-min.html
LAST-MODIFIED:20260423T151354Z
SEQUENCE:-160148
X-ACCESS:1
X-HITS:0
X-COLOR:545454
X-SHOW-END-TIME:1
END:VEVENT
BEGIN:VEVENT
DTSTART;TZID=Europe/Berlin:20260207T193500
DTEND;TZID=Europe/Berlin:20260207T203500
UID:7cb0a96d2b16cf30c295b1095d5b9637
SUMMARY:53225 Bonn, Brückenforum - 30 Min
CREATED:20260425T114302Z
DTSTAMP:20260425T114302Z
URL:https://maggasj3.pxd.one/maggascalendar/53225-bonn-brueckenforum-30-min-2.html
LAST-MODIFIED:20260423T151354Z
SEQUENCE:-160148
X-ACCESS:1
X-HITS:0
X-COLOR:545454
X-SHOW-END-TIME:1
END:VEVENT
BEGIN:VEVENT
DTSTART;TZID=Europe/Berlin:20260207T212500
DTEND;TZID=Europe/Berlin:20260207T222500
UID:07f920a3f982063449a7c641126ff2b2
SUMMARY:52062 Aachen, Eurogress - 30 Min
CREATED:20260425T114302Z
DTSTAMP:20260425T114302Z
URL:https://maggasj3.pxd.one/maggascalendar/52062-aachen-eurogress-30-min.html
LAST-MODIFIED:20260423T151354Z
SEQUENCE:-160148
X-ACCESS:1
X-HITS:0
X-COLOR:545454
X-SHOW-END-TIME:1
END:VEVENT
BEGIN:VEVENT
DTSTART;TZID=Europe/Berlin:20260207T224500
DTEND;TZID=Europe/Berlin:20260207T234500
UID:edc46fb7fceca95f11e896589602d5e8
SUMMARY:53282 Niederzier, Gaffel Häusgen - 30 Min
CREATED:20260425T114302Z
DTSTAMP:20260425T114302Z
URL:https://maggasj3.pxd.one/maggascalendar/53282-niederzier-gaffel-haeusgen-30-min.html
LAST-MODIFIED:20260423T151354Z
SEQUENCE:-160148
X-ACCESS:1
X-HITS:0
X-COLOR:545454
X-SHOW-END-TIME:1
END:VEVENT
BEGIN:VEVENT
DTSTART;TZID=Europe/Berlin:20260208T153000
DTEND;TZID=Europe/Berlin:20260208T163000
UID:8889cf7908d1fd2fa07f07241098aadd
SUMMARY:50859 Köln, Festzelt Lövenich - 30 Min
CREATED:20260425T114302Z
DTSTAMP:20260425T114302Z
URL:https://maggasj3.pxd.one/maggascalendar/50859-koeln-festzelt-loevenich-30-min.html
LAST-MODIFIED:20260423T151354Z
SEQUENCE:-160148
X-ACCESS:1
X-HITS:0
X-COLOR:545454
X-SHOW-END-TIME:1
END:VEVENT
BEGIN:VEVENT
DTSTART;TZID=Europe/Berlin:20260208T163000
DTEND;TZID=Europe/Berlin:20260208T173000
UID:2199588e06d79ca91ed4801de63f5a43
SUMMARY:50670 Köln, Em Hähnche - 30 Min
CREATED:20260425T114302Z
DTSTAMP:20260425T114302Z
URL:https://maggasj3.pxd.one/maggascalendar/50670-koeln-em-haehnche-30-min.html
LAST-MODIFIED:20260423T151354Z
SEQUENCE:-160148
X-ACCESS:1
X-HITS:0
X-COLOR:545454
X-SHOW-END-TIME:1
END:VEVENT
BEGIN:VEVENT
DTSTART;TZID=Europe/Berlin:20260211T210000
DTEND;TZID=Europe/Berlin:20260211T220000
UID:2c28031b032b5e0bdc3ff581346c3cd8
SUMMARY:51519 Odenthal, Brand Coiffeure - 30 Min
CREATED:20260425T114302Z
DTSTAMP:20260425T114302Z
URL:https://maggasj3.pxd.one/maggascalendar/51519-odenthal-brand-coiffeure-30-min.html
LAST-MODIFIED:20260423T151354Z
SEQUENCE:-160148
X-ACCESS:1
X-HITS:0
X-COLOR:545454
X-SHOW-END-TIME:1
END:VEVENT
BEGIN:VEVENT
DTSTART;TZID=Europe/Berlin:20260212T133000
DTEND;TZID=Europe/Berlin:20260212T143000
UID:80148fa7aadb52e53e452bdb24ba7559
SUMMARY:40231 Düsseldorf, Rheinbahn AG - 30 Min
CREATED:20260425T114302Z
DTSTAMP:20260425T114302Z
URL:https://maggasj3.pxd.one/maggascalendar/40231-duesseldorf-rheinbahn-ag-30-min.html
LAST-MODIFIED:20260423T151354Z
SEQUENCE:-160148
X-ACCESS:1
X-HITS:0
X-COLOR:545454
X-SHOW-END-TIME:1
END:VEVENT
BEGIN:VEVENT
DTSTART;TZID=Europe/Berlin:20260212T150000
DTEND;TZID=Europe/Berlin:20260212T160000
UID:321d4257ed513264cca726be29637f9f
SUMMARY:40479 Düsseldorf, Rheinterrassen - 30 Min
CREATED:20260425T114302Z
DTSTAMP:20260425T114302Z
URL:https://maggasj3.pxd.one/maggascalendar/40479-duesseldorf-rheinterrassen-30-min.html
LAST-MODIFIED:20260423T151354Z
SEQUENCE:-160148
X-ACCESS:1
X-HITS:0
X-COLOR:545454
X-SHOW-END-TIME:1
END:VEVENT
BEGIN:VEVENT
DTSTART;TZID=Europe/Berlin:20260212T163000
DTEND;TZID=Europe/Berlin:20260212T173000
UID:a20067da2609438fff6567d26d29642b
SUMMARY:40212 Düsseldorf, Steigenberger Parkhotel - 30 Min
CREATED:20260425T114302Z
DTSTAMP:20260425T114302Z
URL:https://maggasj3.pxd.one/maggascalendar/40212-duesseldorf-steigenberger-parkhotel-30-min.html
LAST-MODIFIED:20260423T151354Z
SEQUENCE:-160148
X-ACCESS:1
X-HITS:0
X-COLOR:545454
X-SHOW-END-TIME:1
END:VEVENT
BEGIN:VEVENT
DTSTART;TZID=Europe/Berlin:20260212T183000
DTEND;TZID=Europe/Berlin:20260212T193000
UID:d30d5f389d5295d5f4b6aee033f0a561
SUMMARY:52070 Aachen, STAWAG  - 30 Min
CREATED:20260425T114302Z
DTSTAMP:20260425T114302Z
URL:https://maggasj3.pxd.one/maggascalendar/52070-aachen-stawag-30-min.html
LAST-MODIFIED:20260423T151354Z
SEQUENCE:-160148
X-ACCESS:1
X-HITS:0
X-COLOR:545454
X-SHOW-END-TIME:1
END:VEVENT
BEGIN:VEVENT
DTSTART;TZID=Europe/Berlin:20260212T200000
DTEND;TZID=Europe/Berlin:20260212T210000
UID:317dc9a344fb83a185502b72b33bd06e
SUMMARY:52477 Alsdorf, Castorhaus - 30 Min
CREATED:20260425T114302Z
DTSTAMP:20260425T114302Z
URL:https://maggasj3.pxd.one/maggascalendar/52477-alsdorf-castorhaus-30-min.html
LAST-MODIFIED:20260423T151354Z
SEQUENCE:-160148
X-ACCESS:1
X-HITS:0
X-COLOR:545454
X-SHOW-END-TIME:1
END:VEVENT
BEGIN:VEVENT
DTSTART;TZID=Europe/Berlin:20260212T223000
DTEND;TZID=Europe/Berlin:20260212T233000
UID:f176ced6e611b47fe4902dee67d9b1ac
SUMMARY:44623 Herne, Kulturzentrum - 30 Min
CREATED:20260425T114302Z
DTSTAMP:20260425T114302Z
URL:https://maggasj3.pxd.one/maggascalendar/44623-herne-kulturzentrum-30-min.html
LAST-MODIFIED:20260423T151354Z
SEQUENCE:-160148
X-ACCESS:1
X-HITS:0
X-COLOR:545454
X-SHOW-END-TIME:1
END:VEVENT
BEGIN:VEVENT
DTSTART;TZID=Europe/Berlin:20260213T193000
DTEND;TZID=Europe/Berlin:20260213T203000
UID:4eaf2c0fc4ab629e2e09ca7448b8572e
SUMMARY:50676 Köln, Hotel Wasserturm - 30 Min
CREATED:20260425T114302Z
DTSTAMP:20260425T114302Z
URL:https://maggasj3.pxd.one/maggascalendar/50676-koeln-hotel-wasserturm-30-min.html
LAST-MODIFIED:20260423T151354Z
SEQUENCE:-160148
X-ACCESS:1
X-HITS:0
X-COLOR:545454
X-SHOW-END-TIME:1
END:VEVENT
BEGIN:VEVENT
DTSTART;TZID=Europe/Berlin:20260213T210000
DTEND;TZID=Europe/Berlin:20260213T220000
UID:8e533aa1637d9c1c707655d942102b0e
SUMMARY:50672 Köln, Hotel Lindner - 30 Min
CREATED:20260425T114302Z
DTSTAMP:20260425T114302Z
URL:https://maggasj3.pxd.one/maggascalendar/50672-koeln-hotel-lindner-30-min.html
LAST-MODIFIED:20260423T151354Z
SEQUENCE:-160148
X-ACCESS:1
X-HITS:0
X-COLOR:545454
X-SHOW-END-TIME:1
END:VEVENT
BEGIN:VEVENT
DTSTART;TZID=Europe/Berlin:20260213T223000
DTEND;TZID=Europe/Berlin:20260213T233000
UID:a39528746a60b1859158db33b73962e5
SUMMARY:50354 Hürth, Soccer Halle - 30 Min
CREATED:20260425T114302Z
DTSTAMP:20260425T114302Z
URL:https://maggasj3.pxd.one/maggascalendar/50354-huerth-soccer-halle-30-min.html
LAST-MODIFIED:20260423T151354Z
SEQUENCE:-160148
X-ACCESS:1
X-HITS:0
X-COLOR:545454
X-SHOW-END-TIME:1
END:VEVENT
BEGIN:VEVENT
DTSTART;TZID=Europe/Berlin:20260213T235900
DTEND;TZID=Europe/Berlin:20260214T005900
UID:ea07413a5931b104b06e97a92041f7c3
SUMMARY:52062 Aachen, Eurogress - 30 Min
CREATED:20260425T114302Z
DTSTAMP:20260425T114302Z
URL:https://maggasj3.pxd.one/maggascalendar/52062-aachen-eurogress-30-min-2.html
LAST-MODIFIED:20260423T151354Z
SEQUENCE:-160148
X-ACCESS:1
X-HITS:0
X-COLOR:545454
X-SHOW-END-TIME:1
END:VEVENT
BEGIN:VEVENT
DTSTART;TZID=Europe/Berlin:20260214T195000
DTEND;TZID=Europe/Berlin:20260214T205000
UID:d78fa0aea0ca3c6422880ec05b5cb016
SUMMARY:47249 Duisburg, Festzelt Breitenkamp - 30 Min
CREATED:20260425T114302Z
DTSTAMP:20260425T114302Z
URL:https://maggasj3.pxd.one/maggascalendar/47249-duisburg-festzelt-breitenkamp-30-min.html
LAST-MODIFIED:20260423T151354Z
SEQUENCE:-160148
X-ACCESS:1
X-HITS:0
X-COLOR:545454
X-SHOW-END-TIME:1
END:VEVENT
BEGIN:VEVENT
DTSTART;TZID=Europe/Berlin:20260214T213000
DTEND;TZID=Europe/Berlin:20260214T223000
UID:e0fe9b0bd24bc217c8803d9ce23a532d
SUMMARY:50859 Köln, Festzelt Lövenich - 30 Min
CREATED:20260425T114302Z
DTSTAMP:20260425T114302Z
URL:https://maggasj3.pxd.one/maggascalendar/50859-koeln-festzelt-loevenich-30-min-2.html
LAST-MODIFIED:20260423T151354Z
SEQUENCE:-160148
X-ACCESS:1
X-HITS:0
X-COLOR:545454
X-SHOW-END-TIME:1
END:VEVENT
BEGIN:VEVENT
DTSTART;TZID=Europe/Berlin:20260214T223000
DTEND;TZID=Europe/Berlin:20260214T233000
UID:251635f9b8c575589922f625f220e32b
SUMMARY:50829 Köln, Wassermannhalle - 30 Min
CREATED:20260425T114302Z
DTSTAMP:20260425T114302Z
URL:https://maggasj3.pxd.one/maggascalendar/50829-koeln-wassermannhalle-30-min.html
LAST-MODIFIED:20260423T151354Z
SEQUENCE:-160148
X-ACCESS:1
X-HITS:0
X-COLOR:545454
X-SHOW-END-TIME:1
END:VEVENT
BEGIN:VEVENT
DTSTART;TZID=Europe/Berlin:20260215T203000
DTEND;TZID=Europe/Berlin:20260215T213000
UID:4123c0c27db7044413762ace7d72afb3
SUMMARY:50996 Köln, Rhein Roxy - 30 Min
CREATED:20260425T114302Z
DTSTAMP:20260425T114302Z
URL:https://maggasj3.pxd.one/maggascalendar/50996-koeln-rhein-roxy-30-min.html
LAST-MODIFIED:20260423T151354Z
SEQUENCE:-160148
X-ACCESS:1
X-HITS:0
X-COLOR:545454
X-SHOW-END-TIME:1
END:VEVENT
BEGIN:VEVENT
DTSTART;TZID=Europe/Berlin:20260215T221000
DTEND;TZID=Europe/Berlin:20260215T231000
UID:ceb083529aff31d96887a4d0b495f959
SUMMARY:40474 Düsseldorf, Hotel Maritim - 30 Min
CREATED:20260425T114302Z
DTSTAMP:20260425T114302Z
URL:https://maggasj3.pxd.one/maggascalendar/40474-duesseldorf-hotel-maritim-30-min.html
LAST-MODIFIED:20260423T151354Z
SEQUENCE:-160148
X-ACCESS:1
X-HITS:0
X-COLOR:545454
X-SHOW-END-TIME:1
END:VEVENT
END:VCALENDAR